Package: deepSNV Version: 1.56.0 Command: rm -rf deepSNV.buildbin-libdir && mkdir deepSNV.buildbin-libdir && /Users/biocbuild/BBS/utils/build-universal.sh deepSNV_1.56.0.tar.gz /Library/Frameworks/R.framework/Resources/bin/R deepSNV.buildbin-libdir StartedAt: 2025-11-10 23:17:21 -0500 (Mon, 10 Nov 2025) EndedAt: 2025-11-10 23:17:42 -0500 (Mon, 10 Nov 2025) EllapsedTime: 20.4 seconds RetCode: 0 Status: OK PackageFile: deepSNV_1.56.0.tgz PackageFileSize: 3.382 MiB