Package: decoupleR Version: 2.16.0 Command: /home/biocbuild/bbs-3.22-bioc/R/bin/R CMD build --keep-empty-dirs --no-resave-data --md5 decoupleR StartedAt: 2025-11-11 17:16:55 -0500 (Tue, 11 Nov 2025) EndedAt: 2025-11-11 17:19:39 -0500 (Tue, 11 Nov 2025) EllapsedTime: 164.1 seconds RetCode: 0 Status: OK PackageFile: decoupleR_2.16.0.tar.gz PackageFileSize: 4.483 MiB