Package: decoupleR Version: 2.14.0 Command: /home/biocbuild/R/R/bin/R CMD INSTALL decoupleR StartedAt: 2025-10-13 20:20:42 -0000 (Mon, 13 Oct 2025) EndedAt: 2025-10-13 20:20:57 -0000 (Mon, 13 Oct 2025) EllapsedTime: 14.1 seconds RetCode: 0 Status: OK