Package: decoupleR Version: 2.14.0 Command: /home/biocbuild/R/R/bin/R CMD build --keep-empty-dirs --no-resave-data decoupleR StartedAt: 2025-10-14 00:09:49 -0000 (Tue, 14 Oct 2025) EndedAt: 2025-10-14 00:13:51 -0000 (Tue, 14 Oct 2025) EllapsedTime: 242.1 seconds RetCode: 0 Status: OK PackageFile: decoupleR_2.14.0.tar.gz PackageFileSize: 4.683 MiB