Package: decoupleR Version: 2.16.0 Command: /Library/Frameworks/R.framework/Resources/bin/R CMD INSTALL decoupleR StartedAt: 2025-10-30 15:05:16 -0400 (Thu, 30 Oct 2025) EndedAt: 2025-10-30 15:05:22 -0400 (Thu, 30 Oct 2025) EllapsedTime: 5.9 seconds RetCode: 0 Status: OK