Package: decoupleR Version: 2.16.0 Command: rm -rf decoupleR.buildbin-libdir && mkdir decoupleR.buildbin-libdir && /Users/biocbuild/BBS/utils/build-universal.sh decoupleR_2.16.0.tar.gz /Library/Frameworks/R.framework/Resources/bin/R decoupleR.buildbin-libdir StartedAt: 2025-10-30 05:21:53 -0400 (Thu, 30 Oct 2025) EndedAt: 2025-10-30 05:21:57 -0400 (Thu, 30 Oct 2025) EllapsedTime: 4.1 seconds RetCode: 0 Status: OK PackageFile: decoupleR_2.16.0.tgz PackageFileSize: 4.63 MiB