Package: deconvR Version: 1.16.0 Command: /home/biocbuild/R/R/bin/R CMD INSTALL deconvR StartedAt: 2025-11-13 21:53:16 -0000 (Thu, 13 Nov 2025) EndedAt: 2025-11-13 21:54:22 -0000 (Thu, 13 Nov 2025) EllapsedTime: 65.7 seconds RetCode: 0 Status: OK