Package: deconvR Version: 1.16.0 Command: /home/biocbuild/R/R/bin/R CMD build --keep-empty-dirs --no-resave-data deconvR StartedAt: 2025-11-14 01:06:48 -0000 (Fri, 14 Nov 2025) EndedAt: 2025-11-14 01:09:25 -0000 (Fri, 14 Nov 2025) EllapsedTime: 157.0 seconds RetCode: 0 Status: OK PackageFile: deconvR_1.16.0.tar.gz PackageFileSize: 3.858 MiB