Package: deconvR Version: 1.16.0 Command: /home/biocbuild/bbs-3.22-bioc/R/bin/R CMD build --keep-empty-dirs --no-resave-data --md5 deconvR StartedAt: 2025-11-11 17:16:46 -0500 (Tue, 11 Nov 2025) EndedAt: 2025-11-11 17:18:42 -0500 (Tue, 11 Nov 2025) EllapsedTime: 116.1 seconds RetCode: 0 Status: OK PackageFile: deconvR_1.16.0.tar.gz PackageFileSize: 3.795 MiB