Package: deconvR Version: 1.14.2 Command: /home/biocbuild/bbs-3.21-bioc/R/bin/R CMD INSTALL deconvR StartedAt: 2025-10-15 15:43:34 -0400 (Wed, 15 Oct 2025) EndedAt: 2025-10-15 15:44:24 -0400 (Wed, 15 Oct 2025) EllapsedTime: 49.7 seconds RetCode: 0 Status: OK