Package: deconvR Version: 1.14.2 Command: /home/biocbuild/bbs-3.21-bioc/R/bin/R CMD build --keep-empty-dirs --no-resave-data deconvR StartedAt: 2025-10-15 17:06:29 -0400 (Wed, 15 Oct 2025) EndedAt: 2025-10-15 17:08:27 -0400 (Wed, 15 Oct 2025) EllapsedTime: 118.1 seconds RetCode: 0 Status: OK PackageFile: deconvR_1.14.2.tar.gz PackageFileSize: 3.789 MiB