Package: deconvR Version: 1.14.2 Command: /Library/Frameworks/R.framework/Resources/bin/R CMD build --keep-empty-dirs --no-resave-data deconvR StartedAt: 2025-10-13 22:46:11 -0400 (Mon, 13 Oct 2025) EndedAt: 2025-10-13 22:48:43 -0400 (Mon, 13 Oct 2025) EllapsedTime: 152.0 seconds RetCode: 0 Status: OK PackageFile: deconvR_1.14.2.tar.gz PackageFileSize: 3.789 MiB