Package: decontX Version: 1.8.0 Command: /home/biocbuild/bbs-3.22-bioc/R/bin/R CMD INSTALL decontX StartedAt: 2025-11-11 16:02:17 -0500 (Tue, 11 Nov 2025) EndedAt: 2025-11-11 16:05:14 -0500 (Tue, 11 Nov 2025) EllapsedTime: 177.5 seconds RetCode: 0 Status: OK