Package: decontX Version: 1.6.0 Command: /home/biocbuild/R/R/bin/R CMD INSTALL decontX StartedAt: 2025-10-13 21:18:46 -0000 (Mon, 13 Oct 2025) EndedAt: 2025-10-13 21:23:08 -0000 (Mon, 13 Oct 2025) EllapsedTime: 261.8 seconds RetCode: 0 Status: OK