Package: decontX Version: 1.6.0 Command: /home/biocbuild/R/R/bin/R CMD build --keep-empty-dirs --no-resave-data decontX StartedAt: 2025-10-14 00:08:11 -0000 (Tue, 14 Oct 2025) EndedAt: 2025-10-14 00:22:43 -0000 (Tue, 14 Oct 2025) EllapsedTime: 872.3 seconds RetCode: 1 Status: ERROR PackageFile: None PackageFileSize: NA