Package: decontX Version: 1.8.0 Command: /Library/Frameworks/R.framework/Resources/bin/R CMD INSTALL decontX StartedAt: 2025-11-03 15:30:37 -0500 (Mon, 03 Nov 2025) EndedAt: 2025-11-03 15:31:26 -0500 (Mon, 03 Nov 2025) EllapsedTime: 49.2 seconds RetCode: 0 Status: OK