Package: decontX Version: 1.8.0 Command: /Library/Frameworks/R.framework/Resources/bin/R CMD build --keep-empty-dirs --no-resave-data decontX StartedAt: 2025-10-31 16:12:09 -0400 (Fri, 31 Oct 2025) EndedAt: 2025-10-31 16:15:05 -0400 (Fri, 31 Oct 2025) EllapsedTime: 175.8 seconds RetCode: 0 Status: OK PackageFile: decontX_1.8.0.tar.gz PackageFileSize: 1.994 MiB