Package: decompTumor2Sig Version: 2.26.0 Command: /home/biocbuild/bbs-3.22-bioc/R/bin/R CMD INSTALL decompTumor2Sig StartedAt: 2025-11-11 16:04:27 -0500 (Tue, 11 Nov 2025) EndedAt: 2025-11-11 16:05:12 -0500 (Tue, 11 Nov 2025) EllapsedTime: 45.7 seconds RetCode: 0 Status: OK