Package: decompTumor2Sig Version: 2.26.0 Command: /home/biocbuild/bbs-3.22-bioc/R/bin/R CMD check --install=check:decompTumor2Sig.install-out.txt --library=/home/biocbuild/bbs-3.22-bioc/R/site-library --timings decompTumor2Sig_2.26.0.tar.gz StartedAt: 2025-11-11 22:52:23 -0500 (Tue, 11 Nov 2025) EndedAt: 2025-11-11 23:03:18 -0500 (Tue, 11 Nov 2025) EllapsedTime: 654.5 seconds RetCode: 0 Status: OK CheckDir: decompTumor2Sig.Rcheck Warnings: 0