Package: decompTumor2Sig Version: 2.24.0 Command: /home/biocbuild/bbs-3.21-bioc/R/bin/R CMD INSTALL decompTumor2Sig StartedAt: 2025-10-15 15:58:29 -0400 (Wed, 15 Oct 2025) EndedAt: 2025-10-15 15:59:12 -0400 (Wed, 15 Oct 2025) EllapsedTime: 43.6 seconds RetCode: 0 Status: OK