Package: decompTumor2Sig Version: 2.24.0 Command: /home/biocbuild/bbs-3.21-bioc/R/bin/R CMD build --keep-empty-dirs --no-resave-data decompTumor2Sig StartedAt: 2025-10-15 17:05:29 -0400 (Wed, 15 Oct 2025) EndedAt: 2025-10-15 17:09:59 -0400 (Wed, 15 Oct 2025) EllapsedTime: 270.2 seconds RetCode: 0 Status: OK PackageFile: decompTumor2Sig_2.24.0.tar.gz PackageFileSize: 2.758 MiB