Package: decompTumor2Sig Version: 2.26.0 Command: /Library/Frameworks/R.framework/Resources/bin/R CMD INSTALL decompTumor2Sig StartedAt: 2025-11-20 17:34:35 -0500 (Thu, 20 Nov 2025) EndedAt: 2025-11-20 17:36:07 -0500 (Thu, 20 Nov 2025) EllapsedTime: 92.5 seconds RetCode: 0 Status: OK