Package: decompTumor2Sig Version: 2.26.0 Command: /Library/Frameworks/R.framework/Resources/bin/R CMD build --keep-empty-dirs --no-resave-data decompTumor2Sig StartedAt: 2025-11-20 19:23:07 -0500 (Thu, 20 Nov 2025) EndedAt: 2025-11-20 19:37:35 -0500 (Thu, 20 Nov 2025) EllapsedTime: 867.5 seconds RetCode: 0 Status: OK PackageFile: decompTumor2Sig_2.26.0.tar.gz PackageFileSize: 2.728 MiB