Package: decompTumor2Sig Version: 2.26.0 Command: rm -rf decompTumor2Sig.buildbin-libdir && mkdir decompTumor2Sig.buildbin-libdir && /Users/biocbuild/BBS/utils/build-universal.sh decompTumor2Sig_2.26.0.tar.gz /Library/Frameworks/R.framework/Resources/bin/R decompTumor2Sig.buildbin-libdir StartedAt: 2025-11-21 14:33:29 -0500 (Fri, 21 Nov 2025) EndedAt: 2025-11-21 14:35:04 -0500 (Fri, 21 Nov 2025) EllapsedTime: 95.5 seconds RetCode: 0 Status: OK PackageFile: decompTumor2Sig_2.26.0.tgz PackageFileSize: 2.766 MiB