Package: decompTumor2Sig Version: 2.24.0 Command: /home/biocbuild/R/R/bin/R CMD INSTALL decompTumor2Sig StartedAt: 2025-09-25 21:18:06 -0000 (Thu, 25 Sep 2025) EndedAt: 2025-09-25 21:19:05 -0000 (Thu, 25 Sep 2025) EllapsedTime: 59.7 seconds RetCode: 0 Status: OK