Package: debrowser Version: 1.38.0 Command: /home/biocbuild/bbs-3.22-bioc/R/bin/R CMD INSTALL debrowser StartedAt: 2025-11-11 15:52:56 -0500 (Tue, 11 Nov 2025) EndedAt: 2025-11-11 15:53:42 -0500 (Tue, 11 Nov 2025) EllapsedTime: 46.0 seconds RetCode: 0 Status: OK