Package: debrowser Version: 1.38.0 Command: /home/biocbuild/bbs-3.22-bioc/R/bin/R CMD check --install=check:debrowser.install-out.txt --library=/home/biocbuild/bbs-3.22-bioc/R/site-library --timings debrowser_1.38.0.tar.gz StartedAt: 2025-11-11 22:51:59 -0500 (Tue, 11 Nov 2025) EndedAt: 2025-11-11 22:59:06 -0500 (Tue, 11 Nov 2025) EllapsedTime: 426.4 seconds RetCode: 0 Status: OK CheckDir: debrowser.Rcheck Warnings: 0