Package: debrowser Version: 1.36.0 Command: /home/biocbuild/bbs-3.21-bioc/R/bin/R CMD INSTALL debrowser StartedAt: 2025-10-15 15:50:09 -0400 (Wed, 15 Oct 2025) EndedAt: 2025-10-15 15:50:55 -0400 (Wed, 15 Oct 2025) EllapsedTime: 46.1 seconds RetCode: 0 Status: OK