Package: debrowser Version: 1.36.0 Command: /home/biocbuild/bbs-3.21-bioc/R/bin/R CMD build --keep-empty-dirs --no-resave-data debrowser StartedAt: 2025-10-15 17:05:24 -0400 (Wed, 15 Oct 2025) EndedAt: 2025-10-15 17:06:49 -0400 (Wed, 15 Oct 2025) EllapsedTime: 85.1 seconds RetCode: 0 Status: OK PackageFile: debrowser_1.36.0.tar.gz PackageFileSize: 18.22 MiB