Package: debrowser Version: 1.36.0 Command: /Library/Frameworks/R.framework/Resources/bin/R CMD INSTALL debrowser StartedAt: 2025-10-13 17:52:34 -0400 (Mon, 13 Oct 2025) EndedAt: 2025-10-13 17:53:29 -0400 (Mon, 13 Oct 2025) EllapsedTime: 55.2 seconds RetCode: 0 Status: OK