Package: debrowser Version: 1.36.0 Command: /Library/Frameworks/R.framework/Resources/bin/R CMD build --keep-empty-dirs --no-resave-data debrowser StartedAt: 2025-10-13 22:38:54 -0400 (Mon, 13 Oct 2025) EndedAt: 2025-10-13 22:41:11 -0400 (Mon, 13 Oct 2025) EllapsedTime: 137.5 seconds RetCode: 0 Status: OK PackageFile: debrowser_1.36.0.tar.gz PackageFileSize: 18.23 MiB