Package: debCAM Version: 1.28.0 Command: /Library/Frameworks/R.framework/Resources/bin/R CMD build --keep-empty-dirs --no-resave-data debCAM StartedAt: 2025-11-03 16:42:40 -0500 (Mon, 03 Nov 2025) EndedAt: 2025-11-03 16:42:42 -0500 (Mon, 03 Nov 2025) EllapsedTime: 2.3 seconds RetCode: 1 Status: ERROR PackageFile: None PackageFileSize: NA