############################################################################## ############################################################################## ### ### Running command: ### ### /Library/Frameworks/R.framework/Resources/bin/R CMD build --keep-empty-dirs --no-resave-data debCAM ### ############################################################################## ############################################################################## * checking for file ‘debCAM/DESCRIPTION’ ... OK * preparing ‘debCAM’: * checking DESCRIPTION meta-information ... OK * installing the package to build vignettes ----------------------------------- ERROR: dependency ‘DMwR2’ is not available for package ‘debCAM’ Perhaps try a variation of: install.packages('DMwR2') * removing ‘/private/tmp/RtmpNU78WD/Rinstaa78193167d9/debCAM’ ----------------------------------- ERROR: package installation failed