Package: debCAM Version: 1.26.0 Command: /home/biocbuild/R/R/bin/R CMD INSTALL debCAM StartedAt: 2025-10-13 20:29:59 -0000 (Mon, 13 Oct 2025) EndedAt: 2025-10-13 20:30:14 -0000 (Mon, 13 Oct 2025) EllapsedTime: 14.2 seconds RetCode: 0 Status: OK