Package: debCAM Version: 1.26.0 Command: /home/biocbuild/R/R/bin/R CMD build --keep-empty-dirs --no-resave-data debCAM StartedAt: 2025-10-14 00:07:18 -0000 (Tue, 14 Oct 2025) EndedAt: 2025-10-14 00:17:00 -0000 (Tue, 14 Oct 2025) EllapsedTime: 582.2 seconds RetCode: 0 Status: OK PackageFile: debCAM_1.26.0.tar.gz PackageFileSize: 3.716 MiB