Package: debCAM Version: 1.26.0 Command: rm -rf debCAM.buildbin-libdir && mkdir debCAM.buildbin-libdir && /Users/biocbuild/BBS/utils/build-universal.sh debCAM_1.26.0.tar.gz /Library/Frameworks/R.framework/Resources/bin/R debCAM.buildbin-libdir StartedAt: 2025-04-21 22:32:13 -0400 (Mon, 21 Apr 2025) EndedAt: 2025-04-21 22:32:18 -0400 (Mon, 21 Apr 2025) EllapsedTime: 5.1 seconds RetCode: 0 Status: OK PackageFile: debCAM_1.26.0.tgz PackageFileSize: 3.162 MiB