Package: ddPCRclust Version: 1.30.0 Command: /home/biocbuild/R/R/bin/R CMD INSTALL ddPCRclust StartedAt: 2025-11-10 21:20:30 -0000 (Mon, 10 Nov 2025) EndedAt: 2025-11-10 21:20:46 -0000 (Mon, 10 Nov 2025) EllapsedTime: 16.8 seconds RetCode: 0 Status: OK