Package: ddPCRclust Version: 1.30.0 Command: /home/biocbuild/R/R/bin/R CMD build --keep-empty-dirs --no-resave-data ddPCRclust StartedAt: 2025-11-11 01:00:53 -0000 (Tue, 11 Nov 2025) EndedAt: 2025-11-11 01:01:38 -0000 (Tue, 11 Nov 2025) EllapsedTime: 45.0 seconds RetCode: 0 Status: OK PackageFile: ddPCRclust_1.30.0.tar.gz PackageFileSize: 1.182 MiB