Package: ddPCRclust Version: 1.30.0 Command: /home/biocbuild/bbs-3.22-bioc/R/bin/R CMD build --keep-empty-dirs --no-resave-data --md5 ddPCRclust StartedAt: 2025-11-11 17:15:43 -0500 (Tue, 11 Nov 2025) EndedAt: 2025-11-11 17:16:14 -0500 (Tue, 11 Nov 2025) EllapsedTime: 31.0 seconds RetCode: 0 Status: OK PackageFile: ddPCRclust_1.30.0.tar.gz PackageFileSize: 1.193 MiB