Package: ddPCRclust Version: 1.28.0 Command: /home/biocbuild/R/R/bin/R CMD INSTALL ddPCRclust StartedAt: 2025-09-25 20:27:02 -0000 (Thu, 25 Sep 2025) EndedAt: 2025-09-25 20:27:18 -0000 (Thu, 25 Sep 2025) EllapsedTime: 15.8 seconds RetCode: 0 Status: OK