Package: ddPCRclust Version: 1.28.0 Command: /Library/Frameworks/R.framework/Resources/bin/R CMD INSTALL ddPCRclust StartedAt: 2025-09-25 15:55:32 -0400 (Thu, 25 Sep 2025) EndedAt: 2025-09-25 15:55:46 -0400 (Thu, 25 Sep 2025) EllapsedTime: 14.0 seconds RetCode: 0 Status: OK