Package: ddCt Version: 1.66.0 Command: /Library/Frameworks/R.framework/Resources/bin/R CMD INSTALL ddCt StartedAt: 2025-11-10 15:26:35 -0500 (Mon, 10 Nov 2025) EndedAt: 2025-11-10 15:26:37 -0500 (Mon, 10 Nov 2025) EllapsedTime: 2.4 seconds RetCode: 0 Status: OK