Package: ddCt Version: 1.66.0 Command: /Library/Frameworks/R.framework/Resources/bin/R CMD build --keep-empty-dirs --no-resave-data ddCt StartedAt: 2025-11-10 16:07:56 -0500 (Mon, 10 Nov 2025) EndedAt: 2025-11-10 16:08:07 -0500 (Mon, 10 Nov 2025) EllapsedTime: 11.1 seconds RetCode: 0 Status: OK PackageFile: ddCt_1.66.0.tar.gz PackageFileSize: 781.8 KiB