Package: dce Version: 1.16.0 Command: /home/biocbuild/R/R/bin/R CMD build --keep-empty-dirs --no-resave-data dce StartedAt: 2025-10-14 00:06:43 -0000 (Tue, 14 Oct 2025) EndedAt: 2025-10-14 00:09:49 -0000 (Tue, 14 Oct 2025) EllapsedTime: 186.1 seconds RetCode: 1 Status: ERROR PackageFile: None PackageFileSize: NA