Package: dcanr Version: 1.26.0 Command: /home/biocbuild/bbs-3.22-bioc/R/bin/R CMD INSTALL dcanr StartedAt: 2025-11-11 15:10:59 -0500 (Tue, 11 Nov 2025) EndedAt: 2025-11-11 15:11:35 -0500 (Tue, 11 Nov 2025) EllapsedTime: 35.7 seconds RetCode: 0 Status: OK