Package: dcanr Version: 1.26.0 Command: /home/biocbuild/bbs-3.22-bioc/R/bin/R CMD build --keep-empty-dirs --no-resave-data --md5 dcanr StartedAt: 2025-11-11 17:15:24 -0500 (Tue, 11 Nov 2025) EndedAt: 2025-11-11 17:16:10 -0500 (Tue, 11 Nov 2025) EllapsedTime: 46.0 seconds RetCode: 0 Status: OK PackageFile: dcanr_1.26.0.tar.gz PackageFileSize: 1.711 MiB