Package: dcanr Version: 1.26.0 Command: /Library/Frameworks/R.framework/Resources/bin/R CMD build --keep-empty-dirs --no-resave-data dcanr StartedAt: 2025-11-03 16:42:16 -0500 (Mon, 03 Nov 2025) EndedAt: 2025-11-03 16:43:07 -0500 (Mon, 03 Nov 2025) EllapsedTime: 51.4 seconds RetCode: 0 Status: OK PackageFile: dcanr_1.26.0.tar.gz PackageFileSize: 1.746 MiB