Package: dcanr Version: 1.24.0 Command: /home/biocbuild/R/R/bin/R CMD INSTALL dcanr StartedAt: 2025-10-09 20:18:19 -0000 (Thu, 09 Oct 2025) EndedAt: 2025-10-09 20:19:04 -0000 (Thu, 09 Oct 2025) EllapsedTime: 45.1 seconds RetCode: 0 Status: OK