Package: dcanr Version: 1.24.0 Command: /home/biocbuild/R/R/bin/R CMD build --keep-empty-dirs --no-resave-data dcanr StartedAt: 2025-10-14 00:06:38 -0000 (Tue, 14 Oct 2025) EndedAt: 2025-10-14 00:07:58 -0000 (Tue, 14 Oct 2025) EllapsedTime: 80.0 seconds RetCode: 0 Status: OK PackageFile: dcanr_1.24.0.tar.gz PackageFileSize: 1.799 MiB