Package: dcGSA Version: 1.36.0 Command: /home/biocbuild/R/R/bin/R CMD INSTALL dcGSA StartedAt: 2025-10-09 20:16:26 -0000 (Thu, 09 Oct 2025) EndedAt: 2025-10-09 20:16:34 -0000 (Thu, 09 Oct 2025) EllapsedTime: 8.5 seconds RetCode: 0 Status: OK